BEGIN:VCALENDAR
VERSION:2.0
PRODID:spatie/icalendar-generator
DESCRIPTION:Events from Passaic Family Headstart
X-WR-CALDESC:Events from Passaic Family Headstart
REFRESH-INTERVAL;VALUE=DURATION:PT1440M
X-PUBLISHED-TTL:PT1440M
BEGIN:VTIMEZONE
TZID:America/New_York
BEGIN:STANDARD
DTSTART:20251102T020000Z
TZOFFSETFROM:-0400
TZOFFSETTO:-0500
END:STANDARD
BEGIN:DAYLIGHT
DTSTART:20260308T020000Z
TZOFFSETFROM:-0500
TZOFFSETTO:-0400
END:DAYLIGHT
END:VTIMEZONE
BEGIN:VTIMEZONE
TZID:UTC
BEGIN:STANDARD
DTSTART:20250727T184753Z
TZOFFSETFROM:+0000
TZOFFSETTO:+0000
END:STANDARD
END:VTIMEZONE
BEGIN:VEVENT
UID:18-13
DTSTAMP:20260423T184753Z
SUMMARY:Fatherhood Program
LOCATION:Third Street  68 Third Street  Passaic NJ 07055
ORGANIZER;CN=mbsadmin:MAILTO:abogdanoski@metrombs.com
RRULE:FREQ=WEEKLY;UNTIL=20260428T000000Z
DTSTART;TZID=America/New_York:20251209T180000
DTEND;TZID=America/New_York:20251209T200000
X-ALT-DESC;FMTTYPE=TEXT/HTML:
CATEGORIES:General
URL;VALUE=URI:https://www.passaicheadstart.org/mc-events/fatherhood-program
 -2/?mc_id=18
METHOD:PUBLISH
END:VEVENT
END:VCALENDAR